BEGIN:VCALENDAR
VERSION:2.0
PRODID:-//Business in the Community - ECPv6.15.20//NONSGML v1.0//EN
CALSCALE:GREGORIAN
METHOD:PUBLISH
X-WR-CALNAME:Business in the Community
X-ORIGINAL-URL:https://www.bitc.org.uk
X-WR-CALDESC:Events for Business in the Community
REFRESH-INTERVAL;VALUE=DURATION:PT1H
X-Robots-Tag:noindex
X-PUBLISHED-TTL:PT1H
BEGIN:VTIMEZONE
TZID:Europe/London
BEGIN:DAYLIGHT
TZOFFSETFROM:+0000
TZOFFSETTO:+0100
TZNAME:BST
DTSTART:20230326T010000
END:DAYLIGHT
BEGIN:STANDARD
TZOFFSETFROM:+0100
TZOFFSETTO:+0000
TZNAME:GMT
DTSTART:20231029T010000
END:STANDARD
BEGIN:DAYLIGHT
TZOFFSETFROM:+0000
TZOFFSETTO:+0100
TZNAME:BST
DTSTART:20240331T010000
END:DAYLIGHT
BEGIN:STANDARD
TZOFFSETFROM:+0100
TZOFFSETTO:+0000
TZNAME:GMT
DTSTART:20241027T010000
END:STANDARD
BEGIN:DAYLIGHT
TZOFFSETFROM:+0000
TZOFFSETTO:+0100
TZNAME:BST
DTSTART:20250330T010000
END:DAYLIGHT
BEGIN:STANDARD
TZOFFSETFROM:+0100
TZOFFSETTO:+0000
TZNAME:GMT
DTSTART:20251026T010000
END:STANDARD
END:VTIMEZONE
BEGIN:VEVENT
DTSTART;TZID=Europe/London:20240125T080000
DTEND;TZID=Europe/London:20240125T093000
DTSTAMP:20260426T012857
CREATED:20231116T151146Z
LAST-MODIFIED:20240116T161810Z
UID:10000172-1706169600-1706175000@www.bitc.org.uk
SUMMARY:CEO Networking Breakfast
DESCRIPTION:Join Mary Macleod\, Chief Executive of Business in the Community (BITC)\, at our informal networking breakfasts.   \n\n\n\nAudience \n\n\n\nOpen exclusively to CEOs. Previous attendees have included CEOs from companies such as; Capgemini\, Centrica\, Heathrow Airport\, Linklaters\, Siemens and many more.   \n\n\n\nBackground \n\n\n\nSenior leaders have shown us how much value they get out of coming together in small\, focused groups to share their experiences and ideas. To that end\, we offer a monthly networking breakfast to bring our network together.   \n\n\n\nAbout the event \n\n\n\nEach month\, we gather CEOs together for confidential\, informal discussions over breakfast to share thoughts on current issues\, challenges and what is on the horizon.  \n\n\n\nBITC are keen to understand how we can work more closely with you and use these meetings to hear from you. There is no formal agenda for these meetings; we want to listen to what’s on your mind and the challenges business is facing and understand how BITC can support you.  \n\n\n\nIn the past\, we have addressed issues such as how we can improve internships\, steps to take to build an inclusive recruitment policy and the role technology can play in connecting business and communities.  \n\n\n\nAbout Business in the Community \n\n\n\nBusiness in the Community is the largest and longest-established movement dedicated to responsible business in the UK\, formed in 1982 and with HM The King as our Royal Founding Patron. We convene the network of purposeful leaders committed to changing business\, transforming lives and helping the planet and communities thrive.  \n\n\n\nBooking\, contact details and further information \n\n\n\n\nContact Fiona Macleod\, Head of Events\, for any further questions. \n\n\n\nFull joining instructions will be sent before the event. 
URL:https://www.bitc.org.uk/event/ceo-networking-breakfast-5/
LOCATION:Teneo\, 11 Pilgrim Street (near St Pauls)\, London
CATEGORIES:Responsible Business and Strategy
ATTACH;FMTTYPE=image/png:https://www.bitc.org.uk/wp-content/uploads/2023/11/bitc-image-event-ceo-breakfast-blue-november23.png
END:VEVENT
END:VCALENDAR