BEGIN:VCALENDAR
VERSION:2.0
PRODID:-//Business in the Community - ECPv6.15.20//NONSGML v1.0//EN
CALSCALE:GREGORIAN
METHOD:PUBLISH
X-ORIGINAL-URL:https://www.bitc.org.uk
X-WR-CALDESC:Events for Business in the Community
REFRESH-INTERVAL;VALUE=DURATION:PT1H
X-Robots-Tag:noindex
X-PUBLISHED-TTL:PT1H
BEGIN:VTIMEZONE
TZID:Europe/London
BEGIN:DAYLIGHT
TZOFFSETFROM:+0000
TZOFFSETTO:+0100
TZNAME:BST
DTSTART:20230326T010000
END:DAYLIGHT
BEGIN:STANDARD
TZOFFSETFROM:+0100
TZOFFSETTO:+0000
TZNAME:GMT
DTSTART:20231029T010000
END:STANDARD
BEGIN:DAYLIGHT
TZOFFSETFROM:+0000
TZOFFSETTO:+0100
TZNAME:BST
DTSTART:20240331T010000
END:DAYLIGHT
BEGIN:STANDARD
TZOFFSETFROM:+0100
TZOFFSETTO:+0000
TZNAME:GMT
DTSTART:20241027T010000
END:STANDARD
BEGIN:DAYLIGHT
TZOFFSETFROM:+0000
TZOFFSETTO:+0100
TZNAME:BST
DTSTART:20250330T010000
END:DAYLIGHT
BEGIN:STANDARD
TZOFFSETFROM:+0100
TZOFFSETTO:+0000
TZNAME:GMT
DTSTART:20251026T010000
END:STANDARD
END:VTIMEZONE
BEGIN:VEVENT
DTSTART;TZID=Europe/London:20240208T110000
DTEND;TZID=Europe/London:20240208T133000
DTSTAMP:20260424T171648
CREATED:20231219T143909Z
LAST-MODIFIED:20240117T092310Z
UID:10000206-1707390000-1707399000@www.bitc.org.uk
SUMMARY:Bradford Place Prospectus Launch
DESCRIPTION:Join us to learn what’s needed ahead of the Bradford City of Culture 2025 for the region’s current wellbeing and future economic prosperity.\n\n\nThis is an in person event. \nAudience\nThis event is open to both members and non-members of Business in the Community (BITC). It is designed for business and community leaders based in and around Bradford. \n\n\nBackground\nHaving won the bid for the UK City of Culture 2025\, the scene is set for Bradford to capitalise on its cultural collateral. This unique opportunity will drive greater participation across the district and put arts\, entertainment and musical expression at the heart of all communities. This is the chance for more people and communities in Bradford to tell their story. \nBITC will be launching the Bradford Prospectus\, where a vison for Bradford’s future is set out\, with key asks from government and businesses to help create a district everyone can be part of\, and to give our young people the best start. \n\n\nAbout the Event\nThis networking and launch event\, supported by key partners of the Bradford Place Prospectus will set out our actions and intentions ahead of Bradford City of Culture 2025. Attendees will also: \n\nLearn the key asks and recommendations of Bradford’s Prospectus.\nNetwork with cross-sector leaders from Bradford and West Yorkshire.\nDemonstrate their long-term commitment to the region’s current wellbeing and future economic prosperity.\n\n\n\nGuest Speakers\n\nTracy Brabin\, Mayor of West Yorkshire.\nCouncillor Susan Hinchcliffe\, Chair of the Transport Committee.\nSir David Wootton\, Bradford Place Board Chair.\nBaroness Jo Valentine\, Director of Place\, Business in the Community.\n\n\n\nRefreshments\nLight refreshments will be served. \n\n\nBooking\, contact details and further information\n\nContact Florence Hughes\, Events Manager at BITC for any further questions.\nFull joining instructions will be sent before the event.\n\nFind out how your organisation can become a member of Business in the Community
URL:https://www.bitc.org.uk/event/bradford-place-prospectus-launch/
LOCATION:Central Bradford
CATEGORIES:Community Collaboration
ATTACH;FMTTYPE=image/png:https://www.bitc.org.uk/wp-content/uploads/2023/03/bitc-image-events-seeing-is-believing-march23.png
END:VEVENT
END:VCALENDAR