BEGIN:VCALENDAR
VERSION:2.0
PRODID:-//Business in the Community - ECPv6.15.20//NONSGML v1.0//EN
CALSCALE:GREGORIAN
METHOD:PUBLISH
X-ORIGINAL-URL:https://www.bitc.org.uk
X-WR-CALDESC:Events for Business in the Community
REFRESH-INTERVAL;VALUE=DURATION:PT1H
X-Robots-Tag:noindex
X-PUBLISHED-TTL:PT1H
BEGIN:VTIMEZONE
TZID:Europe/London
BEGIN:DAYLIGHT
TZOFFSETFROM:+0000
TZOFFSETTO:+0100
TZNAME:BST
DTSTART:20230326T010000
END:DAYLIGHT
BEGIN:STANDARD
TZOFFSETFROM:+0100
TZOFFSETTO:+0000
TZNAME:GMT
DTSTART:20231029T010000
END:STANDARD
BEGIN:DAYLIGHT
TZOFFSETFROM:+0000
TZOFFSETTO:+0100
TZNAME:BST
DTSTART:20240331T010000
END:DAYLIGHT
BEGIN:STANDARD
TZOFFSETFROM:+0100
TZOFFSETTO:+0000
TZNAME:GMT
DTSTART:20241027T010000
END:STANDARD
BEGIN:DAYLIGHT
TZOFFSETFROM:+0000
TZOFFSETTO:+0100
TZNAME:BST
DTSTART:20250330T010000
END:DAYLIGHT
BEGIN:STANDARD
TZOFFSETFROM:+0100
TZOFFSETTO:+0000
TZNAME:GMT
DTSTART:20251026T010000
END:STANDARD
END:VTIMEZONE
BEGIN:VEVENT
DTSTART;TZID=Europe/London:20240201T100000
DTEND;TZID=Europe/London:20240201T130000
DTSTAMP:20260421T180003
CREATED:20231006T084621Z
LAST-MODIFIED:20240118T104755Z
UID:10000155-1706781600-1706792400@www.bitc.org.uk
SUMMARY:From Menstruation to Menopause: Workplace Wellness
DESCRIPTION:Discuss the impacts of menstruation and menopause in the workplace. Sharing ideas on how organisations can be inclusive of their employees.\n\n\nAudience\nThis event is open to all Business in the Community (BITC) members. \n\n\nAbout the event\nJoin us for an inclusive in person gathering\, where you can openly share experiences and explore best practices concerning menstruation and menopause in the workplace. This event focuses on the unique aspects of menstruation and menopause\, fostering an environment of support and empowerment. \nWe aspire to equip you with the knowledge and confidence to champion women’s health matters in your workplace. \nThis event is gender inclusive and we invite those of all genders to attend\, whether or not you experience menstruation and/or menopause. We can all benefit from understanding how to best support our colleagues’ physical and mental wellbeing in the workplace. \nAgenda\n\n9:30 AM – register from this time.\n10:00 – introduction to the day from BITC.\n10:15- introduction to menstruation and menopause in the workplace.\n10:30 – guest speaker – Lina Chan\, (Holland & Barrett Director of Women’s Health and CEO\, Founder at Parla) with Q&A.\n10:55 – break.\n11:10 – Panel discussion and Q&A.\n11:45 – break.\n11:55 – introduction to breakouts.\n12:00 – breakout conversations.\n12:30 – report back.\n12:45 – reflections and close from BITC.\n1:00 PM – session will end\, attendees are invited to stay on for tea\, coffee\, and networking.\n\n\n\nSpeakers\nLina Chan: Holland and Barrett Director of Women’s Health and CEO\, Founder at Parla \nPamela McGill: Learning\, Leadership\, Talent & Diversity – HR Professional/Lead\, BT \nKate Smith: Co-Founder\, Director\, Donations and Education Manager\, Hey Girls \nJen Black: People Operations Partner\, Arup \nAbout Business in the Community\nBusiness in the Community is the largest and longest-established movement dedicated to responsible business in the UK\, formed in 1982 and with HM The King as our Royal Founding Patron. We convene the network of purposeful leaders committed to changing business\, transforming lives and helping the planet and communities thrive.
URL:https://www.bitc.org.uk/event/from-menstruation-to-menopause-workplace-wellness/
LOCATION:Arup\,\, 80 Charlotte Street\, London\, W1T 4QS
CATEGORIES:Gender Equality
ATTACH;FMTTYPE=image/png:https://www.bitc.org.uk/wp-content/uploads/2023/03/bitc-image-events-wellbeing-march23.png
END:VEVENT
END:VCALENDAR