BEGIN:VCALENDAR
VERSION:2.0
PRODID:-//Business in the Community - ECPv6.15.20//NONSGML v1.0//EN
CALSCALE:GREGORIAN
METHOD:PUBLISH
X-WR-CALNAME:Business in the Community
X-ORIGINAL-URL:https://www.bitc.org.uk
X-WR-CALDESC:Events for Business in the Community
REFRESH-INTERVAL;VALUE=DURATION:PT1H
X-Robots-Tag:noindex
X-PUBLISHED-TTL:PT1H
BEGIN:VTIMEZONE
TZID:Europe/London
BEGIN:DAYLIGHT
TZOFFSETFROM:+0000
TZOFFSETTO:+0100
TZNAME:BST
DTSTART:20240331T010000
END:DAYLIGHT
BEGIN:STANDARD
TZOFFSETFROM:+0100
TZOFFSETTO:+0000
TZNAME:GMT
DTSTART:20241027T010000
END:STANDARD
BEGIN:DAYLIGHT
TZOFFSETFROM:+0000
TZOFFSETTO:+0100
TZNAME:BST
DTSTART:20250330T010000
END:DAYLIGHT
BEGIN:STANDARD
TZOFFSETFROM:+0100
TZOFFSETTO:+0000
TZNAME:GMT
DTSTART:20251026T010000
END:STANDARD
BEGIN:DAYLIGHT
TZOFFSETFROM:+0000
TZOFFSETTO:+0100
TZNAME:BST
DTSTART:20260329T010000
END:DAYLIGHT
BEGIN:STANDARD
TZOFFSETFROM:+0100
TZOFFSETTO:+0000
TZNAME:GMT
DTSTART:20261025T010000
END:STANDARD
END:VTIMEZONE
BEGIN:VEVENT
DTSTART;TZID=Europe/London:20250625T083000
DTEND;TZID=Europe/London:20250625T113000
DTSTAMP:20260421T172101
CREATED:20250516T082007Z
LAST-MODIFIED:20250516T082455Z
UID:10000519-1750840200-1750851000@www.bitc.org.uk
SUMMARY:Employee Health and Wellbeing
DESCRIPTION:Join us at this event where we will explore how to improve employee wellbeing and discuss our FREE Self Assessment Tool.\n\n\nThis is an in person event. \nUnsure how your organisation measures up on its wellbeing initiatives? Come along to this event where we will discuss how to use our free Workwell Self-Assessment Tool to evaluate your organisation’s wellbeing journey and see where it could make progress. \nOverview\nThe Workwell Self-Assessment Tool is a free online survey created by Business in the Community (BITC) that has already reached almost 1.4 million employees through participating organisations . This intuitive platform enables teams to establish a clear baseline of their workforce wellbeing strategies\, to benchmark performance against other businesses\, and to identify the most impactful areas for improvement without the need for lengthy audits or costly external consultants. \nBy engaging with the tool you will be part of a growing community of organisations that have progressed into the embedding phase of the Workwell Model . Users consistently report strong outcomes from their specialist support services and have also highlighted inclusive culture as a key area for development . Whether you lead a small or medium sized enterprise beginning a wellbeing journey or manage a large organisation seeking to refine existing practices\, the Workwell Self-Assessment Tool will equip you with the data and insights needed to make workforce wellbeing a strategic driver of organisational success. \nWherever you are on your journey\, now is the time to be focussing on employee wellbeing because long-term sick costs the economy £1.5billion a year and Wales has the highest level of sickness across the UK. \nOver the next 20 years\, over 65s will grow 7x faster than under 65s and an ageing workforce could increase sick-related absences by an extra 27.5%. \nAbout the event \nJoin us and speakers from organisations including Mott Macdonald\, SLR Consulting and Thales who will be sharing their own experiences of the tool and how wellbeing initiatives in their organisations has helped improve employee wellbeing. \nThis event forms part of a series of events focused on employee wellbeing and is a partnership with BITC\, the Bevan Commission\, CBI Wales\, Healthy Working Wales and Industry Wales. \nBooking\, contact details and further information\n\nContact Sarah.Hunter@bitc.org.uk\, Senior Support Assistant\, BITC for any further questions.\nFull joining instructions will be sent before the event.\n\nFind out how your organisation can become a member of Business in the Community
URL:https://www.bitc.org.uk/event/employee-health-and-wellbeing/
LOCATION:Cardiff
CATEGORIES:Health and Wellbeing
ATTACH;FMTTYPE=image/png:https://www.bitc.org.uk/wp-content/uploads/2024/11/bitc-image-event-wellbeing2-nov24.png
END:VEVENT
END:VCALENDAR