BEGIN:VCALENDAR
VERSION:2.0
PRODID:-//Business in the Community - ECPv6.15.20//NONSGML v1.0//EN
CALSCALE:GREGORIAN
METHOD:PUBLISH
X-ORIGINAL-URL:https://www.bitc.org.uk
X-WR-CALDESC:Events for Business in the Community
REFRESH-INTERVAL;VALUE=DURATION:PT1H
X-Robots-Tag:noindex
X-PUBLISHED-TTL:PT1H
BEGIN:VTIMEZONE
TZID:Europe/London
BEGIN:DAYLIGHT
TZOFFSETFROM:+0000
TZOFFSETTO:+0100
TZNAME:BST
DTSTART:20230326T010000
END:DAYLIGHT
BEGIN:STANDARD
TZOFFSETFROM:+0100
TZOFFSETTO:+0000
TZNAME:GMT
DTSTART:20231029T010000
END:STANDARD
BEGIN:DAYLIGHT
TZOFFSETFROM:+0000
TZOFFSETTO:+0100
TZNAME:BST
DTSTART:20240331T010000
END:DAYLIGHT
BEGIN:STANDARD
TZOFFSETFROM:+0100
TZOFFSETTO:+0000
TZNAME:GMT
DTSTART:20241027T010000
END:STANDARD
BEGIN:DAYLIGHT
TZOFFSETFROM:+0000
TZOFFSETTO:+0100
TZNAME:BST
DTSTART:20250330T010000
END:DAYLIGHT
BEGIN:STANDARD
TZOFFSETFROM:+0100
TZOFFSETTO:+0000
TZNAME:GMT
DTSTART:20251026T010000
END:STANDARD
END:VTIMEZONE
BEGIN:VEVENT
DTSTART;TZID=Europe/London:20241107T100000
DTEND;TZID=Europe/London:20241107T113000
DTSTAMP:20260423T140132
CREATED:20240927T101434Z
LAST-MODIFIED:20241022T090354Z
UID:10000414-1730973600-1730979000@www.bitc.org.uk
SUMMARY:Peer Learning Forum: Develop a Responsible Business Strategy
DESCRIPTION:Join us to explore the essential steps to embedding responsibility at the core of your business strategy.\n\n\nThis is an online event. \nAudience\nBusiness in the Community (BITC) members who have advisory in their membership package. Our Peer Learning Forums (PLF) are now open to all members who have advisory in their membership package – hosted by our issue experts\, there are 20 forums a year\, covering a range of responsible business areas and enabling our members to discuss challenges\, solutions and ideas. \n\n\nAbout the event\nMany businesses struggle to prioritise responsibility in the face of competing demands\, fast-changing markets and short-term financial pressures. Building a responsible core strategy is not just a moral imperative\, it’s a key driver of sustainable growth\, reduced risks\, and long-term success. \nJoin us for a dynamic Peer Learning Forum where we explore the essential steps to embedding responsibility at the core of your business strategy. We will uncover ‘why’ responsible strategy is crucial to your business\, ‘what’ it should include\, and ‘how’ to effectively implement it. By attending\, you’ll gain insights on how to ensure responsibility is embedded into your business priorities\, leading to sustainable growth\, reduced risk\, and enhanced impact. \nDuring this Peer Learning Forum\, you’ll have the opportunity to join breakout sessions\, each focusing on a key aspect of responsible business strategy—‘Why’\, ‘What’\, or ‘How’. These sessions will be peer discussions\, providing a space to learn from each other’s experiences\, share insights\, and explore best practices together. You will select your breakout group when you register. \n‘Why’ Breakout Group\nExplore the importance of embedding purpose and stakeholder collaboration in your business strategy. This group will discuss the role of materiality assessments and why they are essential for developing a strategy that prioritises long-term responsibility and for reporting requirements. \n‘What’ Breakout Group\nDive into the core elements of a responsible strategy. This group covers the alignment between business and strategic objectives\, identifying key material issues\, and understanding the positive and negative impacts of your strategic priorities on these issues. \n‘How’ Breakout Group\nLearn practical steps for implementing a responsible business strategy. This group will discuss governance\, strategic planning across departments\, developing action plans for material issues\, and evaluating and transparency of the effectiveness of your strategy. \nGuest Speakers\n– Rachel Feilden\, Senior Diversity\, Equity and Inclusion Adviser\, Stone King LLP \nRachel has recently completed BITC’s responsible business management training and is now working with our Strategy & Purpose advisory team to consider how to embed responsible business across Stone King’s strategic approach. She will be sharing some thoughts on her approach to get the conversation started. \n\n\nBooking\, contact details and further information\n– Contact Jessica Hart\, Event Coordinator\, BITC for any further questions. \n– Full joining instructions will be sent before the event. \nFind out how your organisation can become a member of Business in the Community
URL:https://www.bitc.org.uk/event/peer-learning-forum-develop-a-responsible-business-strategy/
LOCATION:Online
CATEGORIES:Responsible Business and Strategy
ATTACH;FMTTYPE=image/png:https://www.bitc.org.uk/wp-content/uploads/2023/03/bitc-image-events-community-march23.png
END:VEVENT
END:VCALENDAR