BEGIN:VCALENDAR
VERSION:2.0
PRODID:-//Business in the Community - ECPv6.15.20//NONSGML v1.0//EN
CALSCALE:GREGORIAN
METHOD:PUBLISH
X-WR-CALNAME:Business in the Community
X-ORIGINAL-URL:https://www.bitc.org.uk
X-WR-CALDESC:Events for Business in the Community
REFRESH-INTERVAL;VALUE=DURATION:PT1H
X-Robots-Tag:noindex
X-PUBLISHED-TTL:PT1H
BEGIN:VTIMEZONE
TZID:Europe/London
BEGIN:DAYLIGHT
TZOFFSETFROM:+0000
TZOFFSETTO:+0100
TZNAME:BST
DTSTART:20220327T010000
END:DAYLIGHT
BEGIN:STANDARD
TZOFFSETFROM:+0100
TZOFFSETTO:+0000
TZNAME:GMT
DTSTART:20221030T010000
END:STANDARD
BEGIN:DAYLIGHT
TZOFFSETFROM:+0000
TZOFFSETTO:+0100
TZNAME:BST
DTSTART:20230326T010000
END:DAYLIGHT
BEGIN:STANDARD
TZOFFSETFROM:+0100
TZOFFSETTO:+0000
TZNAME:GMT
DTSTART:20231029T010000
END:STANDARD
BEGIN:DAYLIGHT
TZOFFSETFROM:+0000
TZOFFSETTO:+0100
TZNAME:BST
DTSTART:20240331T010000
END:DAYLIGHT
BEGIN:STANDARD
TZOFFSETFROM:+0100
TZOFFSETTO:+0000
TZNAME:GMT
DTSTART:20241027T010000
END:STANDARD
END:VTIMEZONE
BEGIN:VEVENT
DTSTART;TZID=Europe/London:20231031T100000
DTEND;TZID=Europe/London:20231031T110000
DTSTAMP:20260421T224404
CREATED:20230907T144224Z
LAST-MODIFIED:20231012T113425Z
UID:10000128-1698746400-1698750000@www.bitc.org.uk
SUMMARY:International Standards: how to respond
DESCRIPTION:This event forms part of a series covering the impact of new international standards. This event will provide a high level overview of the standards on overarching responsible business reporting (environmental\, social and governance). \n\n\n\nJoin the other event in the series\, International Standards – Sustainability reporting\, taking place on October 24.  \n\n\n\nThis is an online event. \n\n\n\nAudience\n\n\n\nOpen to BITC members and non-members. This event has been designed to benefit Heads of Responsible Business. \n\n\n\nThe aims and objectives of the series of events\n\n\n\nThese events are a monthly opportunity to meet peers and learn from each other. \n\n\n\nBITC will convene Heads of Responsible Business\, or those who own and drive responsible business within their organisations\, to accelerate greener and fairer action together. Each month\, we will explore a different emerging trend or challenge facing our member businesses. We will facilitate discussions allowing you to meet peers\, navigate your barriers and accelerate responsible business. \n\n\n\nSave the time and date\n\n\n\nSave the time and date of 10-11:00 on the last Tuesday of every month\, to join these facilitated discussions. \n\n\n\nDetails of the November Share and Learn session will be published very soon.  \n\n\n\nResponding to new international standards\n\n\n\nBusinesses are being subject to increased responsible business regulation\, requiring sophisticated approaches to responsible business activity. The introduction of the Corporate Sustainability Reporting Directive (CSRD) in the European Union\, the global ISSB standard (International Sustainability Standards Board) as well as the Sustainability Disclosure Standards (SDS) in the UK\, creates an imperative for businesses to have an in-depth understanding of their social and environmental impacts and to demonstrate how they are being managed. \n\n\n\nJoin us for this Share & Learn session where we will be discussing the CSRD\, ISSB and SDS (which will adopt ISSB standards) and their implications for businesses’ approach and reporting of responsible business. \n\n\n\nThe session is applicable both for businesses affected by the legislation\, and those unaffected. BITC believes that all businesses should be complying with the standards so they are meeting best practice standards and are in a strong position to respond to future regulatory developments. \n\n\n\nThis event is aimed at responsible business practitioners and leaders alike\, and aims to equip individuals with intel from peers to inform internal stakeholders and prepare the organisation for the forthcoming requirements. We will provide the opportunity for attendees to join breakout rooms to hear from other businesses about how they are responding to the developments. \n\n\n\nQuestions to discuss in breakout rooms include the following: \n\n\n\n\nHow the business currently manages responsible business and what needs to change in order to become compliant?\n\n\n\nWhat departments need to be engaged in order to effectively manage this new approach to responsible business?\n\n\n\nWhat will this mean for responsible business ambitions?\n\n\n\nHow will this effect current approach to responsible business reporting?\n\n\n\n\nFuture Share and Learn Sessions\n\n\n\n\n28 November\n\n\n\n\nBooking and contact details and further information\n\n\n\nFor more information\, please contact Megan Gillett\, Events Coordinator at BITC.
URL:https://www.bitc.org.uk/event/business-in-the-community-share-and-learn-sessions-2/
LOCATION:Online
CATEGORIES:Responsible Business and Strategy
ATTACH;FMTTYPE=image/png:https://www.bitc.org.uk/wp-content/uploads/2023/03/bitc-image-events-responsible-business-and-strategy-march23.png
END:VEVENT
BEGIN:VEVENT
DTSTART;TZID=Europe/London:20231101T153000
DTEND;TZID=Europe/London:20231101T170000
DTSTAMP:20260421T224404
CREATED:20230922T103849Z
LAST-MODIFIED:20231027T094132Z
UID:10000147-1698852600-1698858000@www.bitc.org.uk
SUMMARY:Business in the Community Critical Friends Forum
DESCRIPTION:An exclusive panel of Business in the Community (BITC) member contacts who advise BITC on priorities and direction.\n\n\nThis is an virtual event. \nAudience\nAttendance is by invitation only. If you would like to be considered to be part of this panel\, or if you would like the opportunity to provide more feedback to BITC\, please contact Paul Archer\, Head of Customer Experience. \n\n\nThe aims and objectives of the event \nBusiness in the Community’s Critical Friends advise us on our priorities and direction to ensure we can deliver our vision and grow the responsible business movement. \nThe panel comprises contacts from BITC member companies from various sectors and sizes. \nBITC’s Critical Friends is designed to be a representative sample of our entire membership\, and gives our members a direct line to the leaders and decision-makers here at BITC. \nOur Critical Friends meet two to four times a year to consider BITC strategic issues\, as well as provide ad-hoc feedback on innovations and decisions. \n\n\nBooking and contact details and further information\n\nFull joining instructions will be sent before the event.\nContact Megan Gillett\, Events Coordinator at BITC\, for further questions.\n\nFind out how your organisation can become a member of Business in the Community
URL:https://www.bitc.org.uk/event/business-in-the-community-critical-friends-forum/
LOCATION:Online webinar\, United Kingdom
CATEGORIES:Responsible Business and Strategy
ATTACH;FMTTYPE=image/png:https://www.bitc.org.uk/wp-content/uploads/2023/03/bitc-image-events-community-march23.png
END:VEVENT
END:VCALENDAR