BEGIN:VCALENDAR
VERSION:2.0
PRODID:-//Business in the Community - ECPv6.15.20//NONSGML v1.0//EN
CALSCALE:GREGORIAN
METHOD:PUBLISH
X-WR-CALNAME:Business in the Community
X-ORIGINAL-URL:https://www.bitc.org.uk
X-WR-CALDESC:Events for Business in the Community
REFRESH-INTERVAL;VALUE=DURATION:PT1H
X-Robots-Tag:noindex
X-PUBLISHED-TTL:PT1H
BEGIN:VTIMEZONE
TZID:Europe/London
BEGIN:DAYLIGHT
TZOFFSETFROM:+0000
TZOFFSETTO:+0100
TZNAME:BST
DTSTART:20230326T010000
END:DAYLIGHT
BEGIN:STANDARD
TZOFFSETFROM:+0100
TZOFFSETTO:+0000
TZNAME:GMT
DTSTART:20231029T010000
END:STANDARD
BEGIN:DAYLIGHT
TZOFFSETFROM:+0000
TZOFFSETTO:+0100
TZNAME:BST
DTSTART:20240331T010000
END:DAYLIGHT
BEGIN:STANDARD
TZOFFSETFROM:+0100
TZOFFSETTO:+0000
TZNAME:GMT
DTSTART:20241027T010000
END:STANDARD
BEGIN:DAYLIGHT
TZOFFSETFROM:+0000
TZOFFSETTO:+0100
TZNAME:BST
DTSTART:20250330T010000
END:DAYLIGHT
BEGIN:STANDARD
TZOFFSETFROM:+0100
TZOFFSETTO:+0000
TZNAME:GMT
DTSTART:20251026T010000
END:STANDARD
END:VTIMEZONE
BEGIN:VEVENT
DTSTART;TZID=Europe/London:20241105T093000
DTEND;TZID=Europe/London:20241105T150000
DTSTAMP:20260423T090014
CREATED:20240701T132127Z
LAST-MODIFIED:20240806T084208Z
UID:10000350-1730799000-1730818800@www.bitc.org.uk
SUMMARY:Championing Responsible Business across Scotland
DESCRIPTION:Network and connect with fellow senior leaders\, share insights\, and amplify our collective influence to create a greater impact together.\n\n\nThis is an in person event. \nAudience\nThis event is open to only members of Business in the Community (BITC) and is tailored for C-suite/Senior leaders. \n\n\nBackground\nBusiness in the Community and the Scotland Leadership Board are delighted to invite you to join our second member-only event for senior leaders across Scotland.   \nThe aim of the day is to bring you together to build on the work and events that we will have collaborated on this year and discuss how we can continue to champion Responsible Business across Scotland.   \n\n\nEvent Highlights:\n\nPromote social mobility\, learn how by investing in your workforce and communities can drive positive change.\nMeaningful connections in Places and learn how BITC is bridging businesses\, communities\, and local councils to reset social impact ambitions and how your organisation can benefit from getting involved.\nPrioritise people to help employers transform wellbeing in the workplace and enable people to thrive.\n\nWhy Attend:\nWe are delighted that Scotland’s Deputy First Minister\, Kate Forbes MSP will be a speaker and other names will be announced soon. \n\nTo network and connect with fellow senior leaders\, share insights\, and amplify our collective influence to create a greater impact together.\nTake part in discussions facilitated by BITC Scotland Leadership Board members.\nLearn from success stories and achievements highlighting our collective impact.\nSeize opportunities for collaboration to drive responsible business practices.\n\n\n\nRefreshments\nRefreshements and a light lunch will be served. \n\n\nGuest Speaker\n\nScotland’s Deputy First Minister\, Kate Forbes MSP.\n\n\n\nBooking\, contact details and further information\n\nContact at Florence Hughes\, Events Manager at BITC for any further questions.\nFull joining instructions will be sent before the event.\n\nFind out how your organisation can become a member of Business in the Community
URL:https://www.bitc.org.uk/event/championing-responsible-business-across-scotland-2/
LOCATION:Queen Elizabeth House\, 1 Sibbald Walk\, Edinburgh\, EH8 8FT
CATEGORIES:Responsible Business and Strategy
ATTACH;FMTTYPE=image/png:https://www.bitc.org.uk/wp-content/uploads/2023/03/bitc-image-events-employement-skills-march23.png
END:VEVENT
BEGIN:VEVENT
DTSTART;TZID=Europe/London:20241106T080000
DTEND;TZID=Europe/London:20241106T093000
DTSTAMP:20260423T090014
CREATED:20240708T152741Z
LAST-MODIFIED:20250123T121003Z
UID:10000359-1730880000-1730885400@www.bitc.org.uk
SUMMARY:CEO Leadership Forum Breakfast
DESCRIPTION:This event provides the opportunity to share your experiences\, successes and ideas regarding the key challenges facing the world and society. \n\n\n\nThis is an in person event. \n\n\n\nAudience\n\n\n\nThis event is by invitation only and for CEOs. \n\n\n\nBackground\n\n\n\nAs part of Business in the Community’s work in supporting businesses to drive transformation at pace and scale in our communities\, we are holding a series of CEO Leadership Forum Breakfast events. \n\n\n\nAbout the event\n\n\n\nThese informal\, private discussions over breakfast will form a key part of the national conversation initiated by BITC’s Lifting up the UK: State of the Nation 2024 report\, which detailed the thoughts of the leaders of some of the UK’s largest businesses on what has been done and what is still needed to change the world around us. As such\, they provide CEOs with the opportunity to share their experiences\, successes and ideas regarding key challenges in the world and society today\, as well as the action that can collectively be taken to make a positive difference and change the world around us. \n\n\n\nIf you are unable to join this date we are also holding more breakfasts in the coming months\, to join another date instead\, click here. \n\n\n\nTo join us at a CEO Leadership Forum Dinner instead\, click here. \n\n\n\nRefreshments\n\n\n\nBreakfast will be served. \n\n\n\nBooking\, contact details and further information\n\n\n\n\nContact Fiona Macleod\, Head of Events at BITC for any further questions.\n\n\n\nFull joining instructions will be sent before the event.\n\n\n\n\nFind out how your organisation can become a member of Business in the Community
URL:https://www.bitc.org.uk/event/ceo-leadership-forum-breakfasts/2024-11-06/
LOCATION:London
CATEGORIES:Responsible Business and Strategy
ATTACH;FMTTYPE=image/png:https://www.bitc.org.uk/wp-content/uploads/2024/11/bitc-image-event-leadership-nov24.png
END:VEVENT
BEGIN:VEVENT
DTSTART;TZID=Europe/London:20241107T100000
DTEND;TZID=Europe/London:20241107T113000
DTSTAMP:20260423T090014
CREATED:20240927T101434Z
LAST-MODIFIED:20241022T090354Z
UID:10000414-1730973600-1730979000@www.bitc.org.uk
SUMMARY:Peer Learning Forum: Develop a Responsible Business Strategy
DESCRIPTION:Join us to explore the essential steps to embedding responsibility at the core of your business strategy.\n\n\nThis is an online event. \nAudience\nBusiness in the Community (BITC) members who have advisory in their membership package. Our Peer Learning Forums (PLF) are now open to all members who have advisory in their membership package – hosted by our issue experts\, there are 20 forums a year\, covering a range of responsible business areas and enabling our members to discuss challenges\, solutions and ideas. \n\n\nAbout the event\nMany businesses struggle to prioritise responsibility in the face of competing demands\, fast-changing markets and short-term financial pressures. Building a responsible core strategy is not just a moral imperative\, it’s a key driver of sustainable growth\, reduced risks\, and long-term success. \nJoin us for a dynamic Peer Learning Forum where we explore the essential steps to embedding responsibility at the core of your business strategy. We will uncover ‘why’ responsible strategy is crucial to your business\, ‘what’ it should include\, and ‘how’ to effectively implement it. By attending\, you’ll gain insights on how to ensure responsibility is embedded into your business priorities\, leading to sustainable growth\, reduced risk\, and enhanced impact. \nDuring this Peer Learning Forum\, you’ll have the opportunity to join breakout sessions\, each focusing on a key aspect of responsible business strategy—‘Why’\, ‘What’\, or ‘How’. These sessions will be peer discussions\, providing a space to learn from each other’s experiences\, share insights\, and explore best practices together. You will select your breakout group when you register. \n‘Why’ Breakout Group\nExplore the importance of embedding purpose and stakeholder collaboration in your business strategy. This group will discuss the role of materiality assessments and why they are essential for developing a strategy that prioritises long-term responsibility and for reporting requirements. \n‘What’ Breakout Group\nDive into the core elements of a responsible strategy. This group covers the alignment between business and strategic objectives\, identifying key material issues\, and understanding the positive and negative impacts of your strategic priorities on these issues. \n‘How’ Breakout Group\nLearn practical steps for implementing a responsible business strategy. This group will discuss governance\, strategic planning across departments\, developing action plans for material issues\, and evaluating and transparency of the effectiveness of your strategy. \nGuest Speakers\n– Rachel Feilden\, Senior Diversity\, Equity and Inclusion Adviser\, Stone King LLP \nRachel has recently completed BITC’s responsible business management training and is now working with our Strategy & Purpose advisory team to consider how to embed responsible business across Stone King’s strategic approach. She will be sharing some thoughts on her approach to get the conversation started. \n\n\nBooking\, contact details and further information\n– Contact Jessica Hart\, Event Coordinator\, BITC for any further questions. \n– Full joining instructions will be sent before the event. \nFind out how your organisation can become a member of Business in the Community
URL:https://www.bitc.org.uk/event/peer-learning-forum-develop-a-responsible-business-strategy/
LOCATION:Online
CATEGORIES:Responsible Business and Strategy
ATTACH;FMTTYPE=image/png:https://www.bitc.org.uk/wp-content/uploads/2023/03/bitc-image-events-community-march23.png
END:VEVENT
END:VCALENDAR