BEGIN:VCALENDAR
VERSION:2.0
PRODID:-//Business in the Community - ECPv6.15.20//NONSGML v1.0//EN
CALSCALE:GREGORIAN
METHOD:PUBLISH
X-WR-CALNAME:Business in the Community
X-ORIGINAL-URL:https://www.bitc.org.uk
X-WR-CALDESC:Events for Business in the Community
REFRESH-INTERVAL;VALUE=DURATION:PT1H
X-Robots-Tag:noindex
X-PUBLISHED-TTL:PT1H
BEGIN:VTIMEZONE
TZID:Europe/London
BEGIN:DAYLIGHT
TZOFFSETFROM:+0000
TZOFFSETTO:+0100
TZNAME:BST
DTSTART:20240331T010000
END:DAYLIGHT
BEGIN:STANDARD
TZOFFSETFROM:+0100
TZOFFSETTO:+0000
TZNAME:GMT
DTSTART:20241027T010000
END:STANDARD
BEGIN:DAYLIGHT
TZOFFSETFROM:+0000
TZOFFSETTO:+0100
TZNAME:BST
DTSTART:20250330T010000
END:DAYLIGHT
BEGIN:STANDARD
TZOFFSETFROM:+0100
TZOFFSETTO:+0000
TZNAME:GMT
DTSTART:20251026T010000
END:STANDARD
BEGIN:DAYLIGHT
TZOFFSETFROM:+0000
TZOFFSETTO:+0100
TZNAME:BST
DTSTART:20260329T010000
END:DAYLIGHT
BEGIN:STANDARD
TZOFFSETFROM:+0100
TZOFFSETTO:+0000
TZNAME:GMT
DTSTART:20261025T010000
END:STANDARD
END:VTIMEZONE
BEGIN:VEVENT
DTSTART;TZID=Europe/London:20250123T183000
DTEND;TZID=Europe/London:20250123T210000
DTSTAMP:20260426T042424
CREATED:20240708T161652Z
LAST-MODIFIED:20241113T101123Z
UID:10000377-1737657000-1737666000@www.bitc.org.uk
SUMMARY:CEO Leadership Forum - Dinner
DESCRIPTION:This event provides the opportunity to share your experiences\, successes and ideas regarding the key challenges facing the world and society. \n\n\n\nThis is an in person event. \n\n\n\nAudience\n\n\n\nThis event is by invitation only and for CEOs. \n\n\n\nBackground\n\n\n\nAs part of Business in the Community’s work in supporting businesses to drive transformation at pace and scale in our communities\, we are holding a series of CEO Leadership Forum Dinner events. \n\n\n\nAbout the event\n\n\n\nThese informal\, private discussions over dinner will form a key part of the national conversation initiated by BITC’s Lifting up the UK: State of the Nation 2024 report\, which detailed the thoughts of the leaders of some of the UK’s largest businesses on what has been done and what is still needed to change the world around us. As such\, they provide CEOs with the opportunity to share their experiences\, successes and ideas regarding key challenges in the world and society today\, as well as the action that can collectively be taken to make a positive difference and change the world around us. \n\n\n\nIf you are unable to join this date we are also holding more dinners in the coming months\, to join another date instead\, click here. \n\n\n\nWe are currently finalising dates for our 2025 CEO Leadership Forum Breakfasts and look forward to sharing details with you shortly. To join us at a CEO Leadership Forum Breakfast instead\, click here. \n\n\n\nRefreshments\n\n\n\nDinner will be served. \n\n\n\nBooking\, contact details and further information\n\n\n\n\nContact Fiona Macleod\, Head of Events at BITC for any further questions.\n\n\n\nFull joining instructions will be sent before the event.\n\n\n\n\nFind out how your organisation can become a member of Business in the Community
URL:https://www.bitc.org.uk/event/ceo-leadership-forum-dinners-2025/2025-01-23/
LOCATION:London EC2Y\, United Kingdom
CATEGORIES:Responsible Business and Strategy
ATTACH;FMTTYPE=image/png:https://www.bitc.org.uk/wp-content/uploads/2024/11/bitc-image-event-leadership-nov24.png
END:VEVENT
END:VCALENDAR