BEGIN:VCALENDAR
VERSION:2.0
PRODID:-//Business in the Community - ECPv6.15.20//NONSGML v1.0//EN
CALSCALE:GREGORIAN
METHOD:PUBLISH
X-ORIGINAL-URL:https://www.bitc.org.uk
X-WR-CALDESC:Events for Business in the Community
REFRESH-INTERVAL;VALUE=DURATION:PT1H
X-Robots-Tag:noindex
X-PUBLISHED-TTL:PT1H
BEGIN:VTIMEZONE
TZID:Europe/London
BEGIN:DAYLIGHT
TZOFFSETFROM:+0000
TZOFFSETTO:+0100
TZNAME:BST
DTSTART:20240331T010000
END:DAYLIGHT
BEGIN:STANDARD
TZOFFSETFROM:+0100
TZOFFSETTO:+0000
TZNAME:GMT
DTSTART:20241027T010000
END:STANDARD
BEGIN:DAYLIGHT
TZOFFSETFROM:+0000
TZOFFSETTO:+0100
TZNAME:BST
DTSTART:20250330T010000
END:DAYLIGHT
BEGIN:STANDARD
TZOFFSETFROM:+0100
TZOFFSETTO:+0000
TZNAME:GMT
DTSTART:20251026T010000
END:STANDARD
BEGIN:DAYLIGHT
TZOFFSETFROM:+0000
TZOFFSETTO:+0100
TZNAME:BST
DTSTART:20260329T010000
END:DAYLIGHT
BEGIN:STANDARD
TZOFFSETFROM:+0100
TZOFFSETTO:+0000
TZNAME:GMT
DTSTART:20261025T010000
END:STANDARD
END:VTIMEZONE
BEGIN:VEVENT
DTSTART;TZID=Europe/London:20250128T103000
DTEND;TZID=Europe/London:20250128T170000
DTSTAMP:20260425T201826
CREATED:20240913T142417Z
LAST-MODIFIED:20250108T173339Z
UID:10000410-1738060200-1738083600@www.bitc.org.uk
SUMMARY:Business in the Community’s Member Conference
DESCRIPTION:Shaping Solutions for Responsible Business.\n \n \nThis is an in-person event.\n \n\nArrival is from 10:30\, with the main session starting at 11:15. The event will close at 17:00. \n\n\n\nAudience\nThis event is open to all Business in the Community (BITC) Member organisations and has been designed to benefit practitioners and those working on the Responsible Business Agenda. \n\n\nAbout the event\nJoin us for a dynamic day of collaboration and innovation at our Member Conference\, where we’ll discuss how to tackle the pressing challenges businesses face and shape impactful solutions. \nThe conference has been shaped by insights from the ‘Lifting up the UK: State of the Nation 2024’ report\, reflecting the views of CEOs from the UK’s 450 largest companies. \nWhy attend? \n\nConnect with peers in your industry and like-minded organisations\nLearn from expert speakers on crucial business topics\nCollaborate on impactful solutions for responsible business\nBe part of the change that shapes a better future for society\n\nCollaboration sessions \nEach session will be led by our valued member organisations\, including: \n\nHow can we close the talent gap? Led by Verizon\, a telecommunications company and a BITC Member since 2019\nHow can your business navigate the opportunities and threats of new technologies? Led by Salesforce\, a software company and a BITC Member since 2020\nHow can we drive fairer and greener outcomes through supply chains? Led by SKY\, a broadcaster and telecommunications and a BITC member since 2000\nIs there more to climate action than net zero? Led by PwC\, an accounting and professional services and a BITC member since 2002\nWhat do responsible businesses need to do differently to address complex economic and social issues? Led by Linklaters\, a multinational law firm and a BITC member since 1993\nIs nature the next emerging trend for responsible business? Led by Encirc\, a manufacturing and logistics company and a BITC member since 2017\n\nWe’ll also have some inspiring plenary sessions from renowned speakers: \n\nClaire Camara: The Talent Gap and Young Talent\nClaudine Blamey: The Importance of a Just Transition to Net Zero\n\nDon’t miss this opportunity to make a difference. \n\n\nRefreshments\nLight refreshments and a sandwich lunch will be served. \n\n\nBooking and contact details and further information\n\nContact the Events Team\, BITC\, for any further questions.\nFull joining instructions will be sent before the event.\n\nFind out how your organisation can become a member of Business in the Community
URL:https://www.bitc.org.uk/event/business-in-the-communitys-member-conference/
CATEGORIES:Responsible Business and Strategy
ATTACH;FMTTYPE=image/png:https://www.bitc.org.uk/wp-content/uploads/2024/11/bitc-image-event-member-conference-2025-nov24.png
END:VEVENT
END:VCALENDAR