BEGIN:VCALENDAR
VERSION:2.0
PRODID:-//Business in the Community - ECPv6.15.20//NONSGML v1.0//EN
CALSCALE:GREGORIAN
METHOD:PUBLISH
X-WR-CALNAME:Business in the Community
X-ORIGINAL-URL:https://www.bitc.org.uk
X-WR-CALDESC:Events for Business in the Community
REFRESH-INTERVAL;VALUE=DURATION:PT1H
X-Robots-Tag:noindex
X-PUBLISHED-TTL:PT1H
BEGIN:VTIMEZONE
TZID:Europe/London
BEGIN:DAYLIGHT
TZOFFSETFROM:+0000
TZOFFSETTO:+0100
TZNAME:BST
DTSTART:20240331T010000
END:DAYLIGHT
BEGIN:STANDARD
TZOFFSETFROM:+0100
TZOFFSETTO:+0000
TZNAME:GMT
DTSTART:20241027T010000
END:STANDARD
BEGIN:DAYLIGHT
TZOFFSETFROM:+0000
TZOFFSETTO:+0100
TZNAME:BST
DTSTART:20250330T010000
END:DAYLIGHT
BEGIN:STANDARD
TZOFFSETFROM:+0100
TZOFFSETTO:+0000
TZNAME:GMT
DTSTART:20251026T010000
END:STANDARD
BEGIN:DAYLIGHT
TZOFFSETFROM:+0000
TZOFFSETTO:+0100
TZNAME:BST
DTSTART:20260329T010000
END:DAYLIGHT
BEGIN:STANDARD
TZOFFSETFROM:+0100
TZOFFSETTO:+0000
TZNAME:GMT
DTSTART:20261025T010000
END:STANDARD
END:VTIMEZONE
BEGIN:VEVENT
DTSTART;TZID=Europe/London:20250226T083000
DTEND;TZID=Europe/London:20250226T100000
DTSTAMP:20260426T010421
CREATED:20250123T094427Z
LAST-MODIFIED:20250130T092126Z
UID:10000471-1740558600-1740564000@www.bitc.org.uk
SUMMARY:Pride of Place Breakfast
DESCRIPTION:This event provides the opportunity to share your experiences\, successes and ideas regarding the key challenges facing the world and society. \n\n\n\nThis is an in-person event. \n\n\n\nAudience\n\n\n\nThis event is by invitation only. \n\n\n\nBackground\n\n\n\nAs part of Business in the Community’s (BTC) work in supporting businesses to drive transformation at pace and scale in our communities\, we are holding a series of Leadership Forum Breakfast events. \n\n\n\nAbout the event\n\n\n\nBusiness in the Community’s Pride of Place programme unites people from all walks of life around a vision for a better future\, nurturing collaboration\, sustained investment and self-belief to drive action so that millions can thrive in a place they call home. \n\n\n\nJoin us in Glasgow to discuss how we might collaborate to drive change and help deliver on our and your ambitions and priorities. \n\n\n\nRefreshments\n\n\n\nBreakfast will be served. \n\n\n\nBooking\, contact details and further information\n\n\n\n\nContact Fiona Macleod\, Head of Events at BITC for any further questions.\n\n\n\nFull joining instructions will be sent before the event.\n\n\n\n\nFind out how your organisation can become a member of Business in the Community
URL:https://www.bitc.org.uk/event/ceo-leadership-forum-breakfast-2/
LOCATION:Glasgow
CATEGORIES:Responsible Business and Strategy
ATTACH;FMTTYPE=image/png:https://www.bitc.org.uk/wp-content/uploads/2024/11/bitc-image-event-leadership-nov24.png
END:VEVENT
BEGIN:VEVENT
DTSTART;TZID=Europe/London:20250226T130000
DTEND;TZID=Europe/London:20250226T143000
DTSTAMP:20260426T010421
CREATED:20250123T121053Z
LAST-MODIFIED:20250130T092541Z
UID:10000472-1740574800-1740580200@www.bitc.org.uk
SUMMARY:CEO Leadership Forum Lunch
DESCRIPTION:This event provides the opportunity to share your experiences\, successes and ideas regarding the key challenges facing the world and society. \n\n\n\nThis is an in person event. \n\n\n\nAudience\n\n\n\nThis event is by invitation only and for CEOs. \n\n\n\nBackground\n\n\n\nAs part of Business in the Community’s (BITC) work in supporting businesses to drive transformation at pace and scale in our communities\, we are holding a series of CEO Leadership Forum events. \n\n\n\nAbout the event\n\n\n\nBITC\, The King’s Responsible Business Network\, is the UK’s largest and most influential responsible business network representing more than 24% of the UK workforce. We are dedicated to building a fairer and greener world together by transforming lives and helping the planet and communities thrive. \n\n\n\nJoin us in Glasgow to discuss how we might collaborate to drive change and help deliver on our and your ambitions and priorities. \n\n\n\nRefreshments\n\n\n\nLunch will be served. \n\n\n\nBooking\, contact details and further information\n\n\n\n\nContact Fiona Macleod\, Head of Events at BITC for any further questions.\n\n\n\nFull joining instructions will be sent before the event.\n\n\n\n\nFind out how your organisation can become a member of Business in the Community
URL:https://www.bitc.org.uk/event/ceo-leadership-forum-breakfast-3/
LOCATION:Glasgow
CATEGORIES:Responsible Business and Strategy
ATTACH;FMTTYPE=image/png:https://www.bitc.org.uk/wp-content/uploads/2024/11/bitc-image-event-leadership-nov24.png
END:VEVENT
END:VCALENDAR