BEGIN:VCALENDAR
VERSION:2.0
PRODID:-//Business in the Community - ECPv6.15.20//NONSGML v1.0//EN
CALSCALE:GREGORIAN
METHOD:PUBLISH
X-ORIGINAL-URL:https://www.bitc.org.uk
X-WR-CALDESC:Events for Business in the Community
REFRESH-INTERVAL;VALUE=DURATION:PT1H
X-Robots-Tag:noindex
X-PUBLISHED-TTL:PT1H
BEGIN:VTIMEZONE
TZID:Europe/London
BEGIN:DAYLIGHT
TZOFFSETFROM:+0000
TZOFFSETTO:+0100
TZNAME:BST
DTSTART:20240331T010000
END:DAYLIGHT
BEGIN:STANDARD
TZOFFSETFROM:+0100
TZOFFSETTO:+0000
TZNAME:GMT
DTSTART:20241027T010000
END:STANDARD
BEGIN:DAYLIGHT
TZOFFSETFROM:+0000
TZOFFSETTO:+0100
TZNAME:BST
DTSTART:20250330T010000
END:DAYLIGHT
BEGIN:STANDARD
TZOFFSETFROM:+0100
TZOFFSETTO:+0000
TZNAME:GMT
DTSTART:20251026T010000
END:STANDARD
BEGIN:DAYLIGHT
TZOFFSETFROM:+0000
TZOFFSETTO:+0100
TZNAME:BST
DTSTART:20260329T010000
END:DAYLIGHT
BEGIN:STANDARD
TZOFFSETFROM:+0100
TZOFFSETTO:+0000
TZNAME:GMT
DTSTART:20261025T010000
END:STANDARD
END:VTIMEZONE
BEGIN:VEVENT
DTSTART;TZID=Europe/London:20250506T100000
DTEND;TZID=Europe/London:20250506T113000
DTSTAMP:20260423T104233
CREATED:20250221T123421Z
LAST-MODIFIED:20250417T160029Z
UID:10000487-1746525600-1746531000@www.bitc.org.uk
SUMMARY:Nature and Resilience Insight Series
DESCRIPTION:This series will help businesses act on nature stewardship\, connecting the dots with carbon\, biodiversity\, and resilience.\n\n\nThis is an online event. \nAudience\nThis series is open to Business in the Community (BITC) members and non members. \n\n\nAbout the event\nSession One- Introduction to adaptation and TNFD \nThis introductory session will examine the relationship between climate and nature\, with a focus on the role of international frameworks such as the Taskforce for Nature-related Financial Disclosures (TNFD). \nThe guest speakers include Ella Thomson\, Sustainability Manager at OVO and Oliver Robinson\, Director at Fola\, who will share their learnings on how a leading energy company secured organisational buy-in to become an early adopter of the TNFD and the practical steps they have taken since. \nThe interactive session will include polls\, a peer-learning Q&A and breakouts to maximise collaboration on business nature stewardship strategies. \n\n\nBooking and contact details and further information\n\nContact Annette.Ettarh@bitc.org.uk \, Event Manager\, BITC for any further questions.\nFull joining instructions will be sent before the event.\n\nFind out how your organisation can become a member of Business in the Community
URL:https://www.bitc.org.uk/event/nature-and-resilience-insight-series/
LOCATION:Online
CATEGORIES:Environment
ATTACH;FMTTYPE=image/png:https://www.bitc.org.uk/wp-content/uploads/2024/11/bitc-image-event-environment4-nov24.png
END:VEVENT
BEGIN:VEVENT
DTSTART;TZID=Europe/London:20250508T100000
DTEND;TZID=Europe/London:20250508T113000
DTSTAMP:20260423T104233
CREATED:20250220T094726Z
LAST-MODIFIED:20250324T164937Z
UID:10000485-1746698400-1746703800@www.bitc.org.uk
SUMMARY:Peer Learning Forum: Carbon Reduction or a Just Transition
DESCRIPTION:Join us to discuss practical strategies for making this transition not only possible but just for all.\n\n\nThis is an online event. \nAudience\nBusiness in the Community (BITC) members who have advisory in their membership package. Our Peer Learning Forums (PLF) are now open to all members who have advisory in their membership package – hosted by our issue experts\, there are 20 forums a year\, covering a range of responsible business areas and enabling our members to discuss challenges\, solutions and ideas. \n\n\nAbout the event\nAs the world grapples with the urgent need for climate action\, the conversation must go beyond simply reducing emissions. A Just Transition ensures that the shift towards a sustainable future is inclusive\, fair\, and considers the needs of workers and communities\, as well as considering those who have been previously excluded from the labour market. \nThis Peer Learning Forum will explore how we can move from a mindset of mere reduction to a holistic transition—one that prioritises social equity\, economic resilience\, and environmental sustainability. \nThis event is part of a two-part series\, with the second Peer Learning Forum taking place on 19th June\, ‘Ensuring a Just Transition.’ \n\n\nAbout Business in the Community’s Peer Learning Forums\nBITC’s Peer Learning Forums provide a confidential environment to discuss common issues\, solutions\, and good practice. There will be an emphasis on discussion and sharing experiences. All contributions from businesses will be confidential within the group and won’t be shared externally by BITC. \nBooking and contact details and further information\n\nContact Jessica Hart\, Event Coordinator\, BITC for any further questions.\nFull joining instructions will be sent before the event.\n\nFind out how your organisation can become a member of Business in the Community
URL:https://www.bitc.org.uk/event/peer-learning-forum-carbon-reduction-or-a-just-transition/
LOCATION:Online
CATEGORIES:Environment
ATTACH;FMTTYPE=image/png:https://www.bitc.org.uk/wp-content/uploads/2024/11/bitc-image-event-environment-plf1-nov24.png
END:VEVENT
END:VCALENDAR