BEGIN:VCALENDAR
VERSION:2.0
PRODID:-//Business in the Community - ECPv6.15.20//NONSGML v1.0//EN
CALSCALE:GREGORIAN
METHOD:PUBLISH
X-ORIGINAL-URL:https://www.bitc.org.uk
X-WR-CALDESC:Events for Business in the Community
REFRESH-INTERVAL;VALUE=DURATION:PT1H
X-Robots-Tag:noindex
X-PUBLISHED-TTL:PT1H
BEGIN:VTIMEZONE
TZID:Europe/London
BEGIN:DAYLIGHT
TZOFFSETFROM:+0000
TZOFFSETTO:+0100
TZNAME:BST
DTSTART:20240331T010000
END:DAYLIGHT
BEGIN:STANDARD
TZOFFSETFROM:+0100
TZOFFSETTO:+0000
TZNAME:GMT
DTSTART:20241027T010000
END:STANDARD
BEGIN:DAYLIGHT
TZOFFSETFROM:+0000
TZOFFSETTO:+0100
TZNAME:BST
DTSTART:20250330T010000
END:DAYLIGHT
BEGIN:STANDARD
TZOFFSETFROM:+0100
TZOFFSETTO:+0000
TZNAME:GMT
DTSTART:20251026T010000
END:STANDARD
BEGIN:DAYLIGHT
TZOFFSETFROM:+0000
TZOFFSETTO:+0100
TZNAME:BST
DTSTART:20260329T010000
END:DAYLIGHT
BEGIN:STANDARD
TZOFFSETFROM:+0100
TZOFFSETTO:+0000
TZNAME:GMT
DTSTART:20261025T010000
END:STANDARD
END:VTIMEZONE
BEGIN:VEVENT
DTSTART;TZID=Europe/London:20250619T140000
DTEND;TZID=Europe/London:20250619T153000
DTSTAMP:20260420T013221
CREATED:20250220T095136Z
LAST-MODIFIED:20250613T124112Z
UID:10000486-1750341600-1750347000@www.bitc.org.uk
SUMMARY:Peer Learning Forum: What’s Changing in the SBTi Net-Zero Standard?
DESCRIPTION:Join us at this forum to learn about the latest updates to the SBTi Corporate Net-Zero Standard – and what they mean for your organisation. \n\n\n\nThis is an online event. \nAudience\nBusiness in the Community (BITC) members who have advisory in their membership package. Our Peer Learning Forums (PLF) are now open to all members who have advisory in their membership package – hosted by our issue experts\, there are 20 forums a year\, covering a range of responsible business areas and enabling our members to discuss challenges\, solutions and ideas. \n\n\nAbout the event\nJoin us for our latest Peer Learning Forum where we will be hearing directly from SBTi on the latest updates to the Corporate Net-Zero Standard – and what they mean for your organisation’s climate strategy. We are delighted to be joined by SBTi’s European Lead who will talk us through their evolving position on Scope 3 targets\, carbon removals\, and offsetting claims\, break down key changes and provide practical insights for sustainability leads\, ESG managers\, and strategy teams. \nWhether your company already has approved science-based targets\, is planning to submit in 2025\, or simply wishes to align their net zero approach to the SBTi methodology\, this is your chance to stay ahead of the curve and ask questions directly to SBTi. \nThis event is part of a two-part series\, with the preceding Peer Learning Forum taking place on 8 May\, ‘Carbon Reduction or a Just Transition’. \nGuest speakers\n\nKim Schoppink\, European Lead\, Science-Based Targets Initiative (SBTI)\n\n\n\nAbout Business in the Community’s Peer Learning Forums\nBITC’s Peer Learning Forums provide a confidential environment to discuss common issues\, solutions\, and good practice. There will be an emphasis on discussion and sharing experiences. All contributions from businesses will be confidential within the group and won’t be shared externally by BITC. \nBooking and contact details and further information\n\nContact Jessica Hart\, Event Coordinator\, BITC for any further questions.\nFull joining instructions will be sent before the event.\n\nFind out how your organisation can become a member of Business in the Community
URL:https://www.bitc.org.uk/event/peer-learning-forum-ensuring-a-just-transition/
LOCATION:Online
CATEGORIES:Environment
ATTACH;FMTTYPE=image/png:https://www.bitc.org.uk/wp-content/uploads/2024/11/bitc-image-event-environment-plf1-nov24.png
END:VEVENT
END:VCALENDAR