BEGIN:VCALENDAR
VERSION:2.0
PRODID:-//Business in the Community - ECPv6.15.20//NONSGML v1.0//EN
CALSCALE:GREGORIAN
METHOD:PUBLISH
X-ORIGINAL-URL:https://www.bitc.org.uk
X-WR-CALDESC:Events for Business in the Community
REFRESH-INTERVAL;VALUE=DURATION:PT1H
X-Robots-Tag:noindex
X-PUBLISHED-TTL:PT1H
BEGIN:VTIMEZONE
TZID:Europe/London
BEGIN:DAYLIGHT
TZOFFSETFROM:+0000
TZOFFSETTO:+0100
TZNAME:BST
DTSTART:20240331T010000
END:DAYLIGHT
BEGIN:STANDARD
TZOFFSETFROM:+0100
TZOFFSETTO:+0000
TZNAME:GMT
DTSTART:20241027T010000
END:STANDARD
BEGIN:DAYLIGHT
TZOFFSETFROM:+0000
TZOFFSETTO:+0100
TZNAME:BST
DTSTART:20250330T010000
END:DAYLIGHT
BEGIN:STANDARD
TZOFFSETFROM:+0100
TZOFFSETTO:+0000
TZNAME:GMT
DTSTART:20251026T010000
END:STANDARD
BEGIN:DAYLIGHT
TZOFFSETFROM:+0000
TZOFFSETTO:+0100
TZNAME:BST
DTSTART:20260329T010000
END:DAYLIGHT
BEGIN:STANDARD
TZOFFSETFROM:+0100
TZOFFSETTO:+0000
TZNAME:GMT
DTSTART:20261025T010000
END:STANDARD
END:VTIMEZONE
BEGIN:VEVENT
DTSTART;TZID=Europe/London:20251118T110000
DTEND;TZID=Europe/London:20251118T120000
DTSTAMP:20260421T200637
CREATED:20250919T090413Z
LAST-MODIFIED:20250919T090900Z
UID:10000550-1763463600-1763467200@www.bitc.org.uk
SUMMARY:Race at Work Charter Reset Surgery
DESCRIPTION:Join this event to learn more about the Race at Work Charter Reset\, what it means for your organisation\, and what actions you can take.\n\n\nAudience\nThis event is open to members and non-members of Business in the Community (BITC). These surgeries benefit anyone wishing to start or build on their organisation’s commitment to the Race at Work Charter. \n\n\nBackground\nThe Race at Work Charter Reset Surgeries are a chance for attendees to connect directly with Sandra Kerr CBE\, Race Equality Director at BITC\, to ask questions and explore how to make the most of the Charter Reset. \nThe Race at Work Charter Reset will reflect the latest insights from the Race at Work 2025 YouGov Survey and current workplace realities\, with updates to three key commitments: \n\nCommitment 1: Leaders and employers take action to support young people’s pathways into good work and enterprise.\nCommitment 6: Support employees to progress from allyship to solidarity.\nCommitment 7: Include Black\, Asian\, Mixed Race and ethnically diverse-led small business\, founders and enterprise owners in supply chains.\n\nFollowing the Charter reset on 7th October\, these sessions will focus on the three pillars of the Charter Reset: \nReset – become or continue as a Charter signatory and refresh your organisation’s focus on race equality and fairness. \nCommit – unlock talent by supporting young people’s pathways into good work and enterprise\, progressing from allyship to solidarity and embedding inclusive procurement and diverse supply chains through tools such as our Inclusive Procurement Maturity Model (IPMM). \nInspire – take action\, report progress\, and share your organisation’s success stories. \n\n\nAbout the webinar\nThis interactive surgery will: \n\nWalk you through the Race at Work Charter Reset and what it means for your organisation.\nDeep dive into Commitments 1\, 6\, and 7\, exploring practical actions to support young people’s pathways into good work\, build solidarity in the workplace\, and champion diverse suppliers and fair procurement processes such as fair and prompt payment.\nHighlight how to use Race at Work 2025 Survey insights to guide your next steps and measure progress.\nProvide space to ask questions\, share challenges\, and hear from peers about effective approaches.\n\n\n\nAbout the Race at Work Charter\nThe Race at Work Charter Reset sets out seven commitments for employers to drive fairness and equality so that Black\, Asian\, Mixed Race and ethnically diverse employees are represented at all levels of an organisation. \nCharter Reset Commitments: \n\nLeaders and employers take action to support young people’s pathways into good work and enterprise.\nCapture ethnicity data and publicise progress.\nCommit at board level to zero tolerance of harassment and bullying.\nInclusive leaders and managers ensure fair and equitable access to opportunities and development for everyone in their teams.\nInclusive leaders take action that supports Black\, Asian\, Mixed Race and ethnically diverse employee career progression.\nSupport employees to progress from allyship to solidarity.\nInclude Black\, Asian\, Mixed Race and ethnically diverse-led small business\, founders and enterprise owners in supply chains.\n\n\n\nBusiness in the Community’s work on race equality\nFor 30 years\, BITC has worked with employers to ensure all employees feel they belong\, have a voice\, are valued\, and can be their true selves. \nWe know that inclusive and fair workplaces are key to unlocking productivity and performance. Black\, Asian\, Mixed Race and ethnically diverse staff still experience disparities in recruitment\, retention\, and progression. The Race in the Workplace: The McGregor-Smith Review highlighted the £24bn annual economic boost possible by tackling racial inequalities. Insights from the Race at Work surveys continue to shape our work\, ensuring organisations benefit from the widest possible talent pool and a more inclusive future of work. The insights from our Race at Work surveys led BITC to create the Race at Work Charter\, with 85 founding signatory organisations committed to improving equality of opportunity in the workplace. The charter now has more than 1100 signatories and our Race at Work surveys continue to shape the charter. \nFind out more about BITC’s work on race equality. \n\n\nBooking\, contact details and further information\n\nContact Jessica.Hart@bitc.org.uk\, Events Coordinator at BITC for more information.\nFull joining instructions will be sent before the event.
URL:https://www.bitc.org.uk/event/race-at-work-charter-reset-surgery/
LOCATION:Online
CATEGORIES:Race Equality
ATTACH;FMTTYPE=image/png:https://www.bitc.org.uk/wp-content/uploads/2024/11/bitc-image-event-race1-nov24.png
END:VEVENT
BEGIN:VEVENT
DTSTART;TZID=Europe/London:20251120T100000
DTEND;TZID=Europe/London:20251120T113000
DTSTAMP:20260421T200637
CREATED:20251016T111227Z
LAST-MODIFIED:20251017T135433Z
UID:10000554-1763632800-1763638200@www.bitc.org.uk
SUMMARY:Peer Learning Forum: COP30 – Meeting our 2030 climate goals
DESCRIPTION:Join us to discuss how UK businesses can move from ambition to action and play a decisive role in shaping this phase of the transition.\n\n\nThis is an online event taking place on Microsoft Teams \n \nAudience\nBusiness in the Community (BITC) members\, as well as non-members who have an advisory package with us. Hosted by our issue experts\, there are 20 forums a year\, covering a range of responsible business areas and enabling our members to discuss challenges\, solutions and ideas. \n\n\nAbout the event\nAs the world gathers in Brazil for COP30\, this pivotal year marks a major milestone in the global climate agenda — all nations will have submitted their updated Nationally Determined Contributions (NDCs)\, setting the course for collective progress towards our 2030 targets. \nJoin us for a virtual discussion on how UK businesses can move from ambition to action and play a decisive role in shaping this phase of the transition. \n\n\nAbout Business in the Community’s Peer Learning Forums\nBITC’s Peer Learning Forums provide a confidential environment to discuss common issues\, solutions\, and good practice. There will be an emphasis on discussion and sharing experiences. All contributions from businesses will be confidential within the group and won’t be shared externally by BITC. \n \nBooking and contact details and further information\n\nContact Jessica.hart@bitc.org.uk \, Event Coordinator\, BITC for any further questions.\nFull joining instructions will be sent before the event.\n\nFind out how your organisation can become a member of Business in the Community
URL:https://www.bitc.org.uk/event/peer-learning-forum-cop30-meeting-our-2030-climate-goals/
LOCATION:Online event
ATTACH;FMTTYPE=image/jpeg:https://www.bitc.org.uk/wp-content/uploads/2025/10/327808f754ff2b045100404b52a25fe2.jpg
END:VEVENT
END:VCALENDAR