BEGIN:VCALENDAR
VERSION:2.0
PRODID:-//Business in the Community - ECPv6.15.20//NONSGML v1.0//EN
CALSCALE:GREGORIAN
METHOD:PUBLISH
X-WR-CALNAME:Business in the Community
X-ORIGINAL-URL:https://www.bitc.org.uk
X-WR-CALDESC:Events for Business in the Community
REFRESH-INTERVAL;VALUE=DURATION:PT1H
X-Robots-Tag:noindex
X-PUBLISHED-TTL:PT1H
BEGIN:VTIMEZONE
TZID:Europe/London
BEGIN:DAYLIGHT
TZOFFSETFROM:+0000
TZOFFSETTO:+0100
TZNAME:BST
DTSTART:20250330T010000
END:DAYLIGHT
BEGIN:STANDARD
TZOFFSETFROM:+0100
TZOFFSETTO:+0000
TZNAME:GMT
DTSTART:20251026T010000
END:STANDARD
BEGIN:DAYLIGHT
TZOFFSETFROM:+0000
TZOFFSETTO:+0100
TZNAME:BST
DTSTART:20260329T010000
END:DAYLIGHT
BEGIN:STANDARD
TZOFFSETFROM:+0100
TZOFFSETTO:+0000
TZNAME:GMT
DTSTART:20261025T010000
END:STANDARD
BEGIN:DAYLIGHT
TZOFFSETFROM:+0000
TZOFFSETTO:+0100
TZNAME:BST
DTSTART:20270328T010000
END:DAYLIGHT
BEGIN:STANDARD
TZOFFSETFROM:+0100
TZOFFSETTO:+0000
TZNAME:GMT
DTSTART:20271031T010000
END:STANDARD
END:VTIMEZONE
BEGIN:VEVENT
DTSTART;TZID=Europe/London:20260203T100000
DTEND;TZID=Europe/London:20260203T110000
DTSTAMP:20260419T191359
CREATED:20251204T150336Z
LAST-MODIFIED:20251204T150928Z
UID:10000568-1770112800-1770116400@www.bitc.org.uk
SUMMARY:Talent Unlocked Workshop: Navigating the Employer Survey
DESCRIPTION:Join us to understand the Talent Unlocked survey and identify actions that improve early career opportunities.\n\n\nThis is an online event taking place on Microsoft Teams \n \nAudience\nThis event is open to members and non-members and would particularly benefit Race at Work Charter Signatories\, prospective Talent Unlocked employers\, HR professionals\, Early Careers Practitioners\, D&I practitioners\, L&D teams\, social impact leads\, and line managers supporting young employees. \n \n\n\nAbout the event\nAs part of our Talent Unlocked partnership with Youth Futures Foundation\, this practical session will support employers to complete the Unlocking Talent Together: Employer Engagement Survey\, a core element of becoming a Talent Unlocked employer. \nThe survey helps organisations reflect on how they currently support ethnically diverse young people who are not in education\, employment or training (NEET)\, and identifies opportunities to strengthen early career pathways. It covers key areas including work experience\, apprenticeships\, safety and reporting processes\, employability skills\, skills development\, and line manager support. \nThis workshop will help you understand the structure of the survey\, the intention behind each question. You will gain clarity on where information sits internally\, how to approach gathering insights\, and how the survey can support your organisation’s early talent priorities. \n \nWhat you will learn\nA clear understanding of the survey structure – walk-through of the core survey themes \nHow to approach each question with confidence – guidance on each question \nWhich internal teams may need to contribute – clarity on which functions typically hold the information needed \nExamples of good practice – examples to inspire your thinking on effective approaches \nHow the survey supports your journey as a Talent Unlocked employer – through benchmarking\, future planning and helping to informing future work \n \nWhy attend?\nThis workshop is ideal for organisations that: \n· want clarity on how to complete the survey effectively \n· want to strengthen their early career pathways \n· are exploring becoming a Talent Unlocked employer \n\n\nAbout Business in the Community’s Peer Learning Forums\nBITC’s Peer Learning Forums provide a confidential environment to discuss common issues\, solutions\, and good practice. There will be an emphasis on discussion and sharing experiences. All contributions from businesses will be confidential within the group and won’t be shared externally by BITC. \n \nBooking and contact details and further information\n\nContact Jessica.hart@bitc.org.uk \, Event Coordinator\, BITC for any further questions.\nFull joining instructions will be sent before the event.\n\nFind out how your organisation can become a member of Business in the Community
URL:https://www.bitc.org.uk/event/talent-unlocked-workshop-navigating-the-employer-survey/
LOCATION:Online event
ATTACH;FMTTYPE=image/jpeg:https://www.bitc.org.uk/wp-content/uploads/2025/12/5501dd8d89195602b6e701866088f1e6.jpg
END:VEVENT
END:VCALENDAR