BEGIN:VCALENDAR
VERSION:2.0
PRODID:-//Business in the Community - ECPv6.15.20//NONSGML v1.0//EN
CALSCALE:GREGORIAN
METHOD:PUBLISH
X-WR-CALNAME:Business in the Community
X-ORIGINAL-URL:https://www.bitc.org.uk
X-WR-CALDESC:Events for Business in the Community
REFRESH-INTERVAL;VALUE=DURATION:PT1H
X-Robots-Tag:noindex
X-PUBLISHED-TTL:PT1H
BEGIN:VTIMEZONE
TZID:Europe/London
BEGIN:DAYLIGHT
TZOFFSETFROM:+0000
TZOFFSETTO:+0100
TZNAME:BST
DTSTART:20250330T010000
END:DAYLIGHT
BEGIN:STANDARD
TZOFFSETFROM:+0100
TZOFFSETTO:+0000
TZNAME:GMT
DTSTART:20251026T010000
END:STANDARD
BEGIN:DAYLIGHT
TZOFFSETFROM:+0000
TZOFFSETTO:+0100
TZNAME:BST
DTSTART:20260329T010000
END:DAYLIGHT
BEGIN:STANDARD
TZOFFSETFROM:+0100
TZOFFSETTO:+0000
TZNAME:GMT
DTSTART:20261025T010000
END:STANDARD
BEGIN:DAYLIGHT
TZOFFSETFROM:+0000
TZOFFSETTO:+0100
TZNAME:BST
DTSTART:20270328T010000
END:DAYLIGHT
BEGIN:STANDARD
TZOFFSETFROM:+0100
TZOFFSETTO:+0000
TZNAME:GMT
DTSTART:20271031T010000
END:STANDARD
END:VTIMEZONE
BEGIN:VEVENT
DTSTART;TZID=Europe/London:20260520T103000
DTEND;TZID=Europe/London:20260520T113000
DTSTAMP:20260423T090610
CREATED:20251029T093227Z
LAST-MODIFIED:20260119T111409Z
UID:10000559-1779273000-1779276600@www.bitc.org.uk
SUMMARY:New Member Induction- May 2026
DESCRIPTION:Join us to learn how to maximise the value of your membership with Business in the Community (BITC).\n\n\nThis is a virtual event. \nAudience\nThis event is open to new members of Business in the Community (BITC) or new contacts from existing BITC members in larger companies. \n\n\nAbout the event\nThe New Member Induction is an opportunity for new members and contacts to better understand BITC’s purpose\, values and missions. It highlights the key elements and opportunities of BITC Membership. This webinar also provides a chance for attendees to share expected ambitions and challenges\, as well as ask any questions to existing members about their personal experiences and how BITC has added value to their organisation. \n\n\nEvent details\nThis event will induct new members\, and new contacts from current member companies\, to BITC. Specific objectives for the event are for new BITC contacts to:  \n\nInspiration: Be inspired to take more action on responsible business with BITC. \nOrientation: Have a clear understanding of what BITC does and how to make the most of that – aligned to the Responsible Business Map. \n\n\nNetworking: To meet other contacts within the community who you can work alongside in your responsible business journey. \n\n\nAction: Identify the greatest opportunities for greater engagement. \n\n\n\nBooking\, contact details and further information\n\nContact Annette Ettarh\, Events Manager at BITC for further information.\n\n\nFull joining instructions will be sent before the event.\n\nFind out how your organisation can become a member of Business in the Community
URL:https://www.bitc.org.uk/event/new-member-induction-may-2026/
LOCATION:Online event
ATTACH;FMTTYPE=image/png:https://www.bitc.org.uk/wp-content/uploads/2025/10/bitc-events-new-member-induction-may-26-oct25.png
END:VEVENT
BEGIN:VEVENT
DTSTART;TZID=Europe/London:20260521T100000
DTEND;TZID=Europe/London:20260521T110000
DTSTAMP:20260423T090610
CREATED:20260213T105037Z
LAST-MODIFIED:20260325T105311Z
UID:10000601-1779357600-1779361200@www.bitc.org.uk
SUMMARY:Peer Learning Forum:  Personal beliefs at work: Managing dissenting views
DESCRIPTION:Join to explore how organisations can navigate differing personal beliefs while maintaining inclusion\, dignity and psychological safety.\n\n\nThis is an online event taking place on Microsoft Teams \n \nAudience\nWe are pleased to welcome Business in the Community (BITC) members\, as well as non-members who have an advisory package with us. Hosted by our issue experts\, there are 20 forums a year\, covering a range of responsible business areas and enabling our members to discuss challenges\, solutions and ideas. \nThis event will be of particular interest to HR\, EDI\, legal\, and senior leaders responsible for culture\, conduct\, and employee relations. \n\n\nAbout the event\nAcross many workplaces\, conversations about identity\, values\, and beliefs are becoming more visible—and at times more contested. Leaders and HR professionals are increasingly asked to balance: \n\nfreedom of belief and expression\n\n\nprotection from discrimination and harassment\n\n\nthe need for respectful\, inclusive workplace cultures\n\nThis session will provide a structured space to reflect on real-world dilemmas\, share organisational approaches\, and consider practical strategies for managing dissent in ways that uphold both inclusion and fairness. \n\n\nBackground\nBITC’s inclusion work emphasises psychological safety\, belonging\, and respectful dialogue as core foundations of responsible business. Supporting employers to navigate complexity—rather than avoid it—is central to creating cultures where difference can exist without harm. \n\n\nAbout Business in the Community’s Peer Learning Forums\nBITC’s Peer Learning Forums provide a confidential environment to discuss common issues\, solutions\, and good practice. There will be an emphasis on discussion and sharing experiences. All contributions from businesses will be confidential within the group and won’t be shared externally by BITC. \n \nBooking and contact details and further information\n\nContact events@bitc.org.uk  for any further questions.\nFull joining instructions will be sent before the event.\n\nFind out how your organisation can become a member of Business in the Community
URL:https://www.bitc.org.uk/event/peer-learning-forum-personal-beliefs-at-work-managing-dissenting-views/
LOCATION:Online event
CATEGORIES:Employment and Skills,Health and Wellbeing,Peer Learning Forums
ATTACH;FMTTYPE=image/jpeg:https://www.bitc.org.uk/wp-content/uploads/2025/10/7e78af370e927d47dfa6d6ed30bc1271.jpg
END:VEVENT
END:VCALENDAR